BEGIN:VCALENDAR
VERSION:2.0
PRODID:-//Freiwillige Feuerwehr Schwarzach - ECPv5.3.1//NONSGML v1.0//EN
CALSCALE:GREGORIAN
METHOD:PUBLISH
X-WR-CALNAME:Freiwillige Feuerwehr Schwarzach
X-ORIGINAL-URL:https://www.ff-schwarzach.at
X-WR-CALDESC:Veranstaltungen für Freiwillige Feuerwehr Schwarzach
BEGIN:VTIMEZONE
TZID:Europe/Vienna
BEGIN:DAYLIGHT
TZOFFSETFROM:+0100
TZOFFSETTO:+0200
TZNAME:CEST
DTSTART:20200329T010000
END:DAYLIGHT
BEGIN:STANDARD
TZOFFSETFROM:+0200
TZOFFSETTO:+0100
TZNAME:CET
DTSTART:20201025T010000
END:STANDARD
END:VTIMEZONE
BEGIN:VEVENT
DTSTART;TZID=Europe/Vienna:20200302T010000
DTEND;TZID=Europe/Vienna:20200303T005959
DTSTAMP:20260425T143555
CREATED:20200519T135910Z
LAST-MODIFIED:20200519T135911Z
UID:7286-1583110800-1583197199@www.ff-schwarzach.at
SUMMARY:Alarmübung Schloss Goldegg
DESCRIPTION:Alarmübung Schloss Goldegg
URL:https://www.ff-schwarzach.at/termin/alarmuebung-schloss-goldegg/
LOCATION:Goldegg
CATEGORIES:Hauptübung
END:VEVENT
END:VCALENDAR