BEGIN:VCALENDAR
VERSION:2.0
PRODID:-//Freiwillige Feuerwehr Schwarzach - ECPv5.3.1//NONSGML v1.0//EN
CALSCALE:GREGORIAN
METHOD:PUBLISH
X-WR-CALNAME:Freiwillige Feuerwehr Schwarzach
X-ORIGINAL-URL:https://www.ff-schwarzach.at
X-WR-CALDESC:Veranstaltungen für Freiwillige Feuerwehr Schwarzach
BEGIN:VTIMEZONE
TZID:Europe/Vienna
BEGIN:DAYLIGHT
TZOFFSETFROM:+0100
TZOFFSETTO:+0200
TZNAME:CEST
DTSTART:20240331T010000
END:DAYLIGHT
BEGIN:STANDARD
TZOFFSETFROM:+0200
TZOFFSETTO:+0100
TZNAME:CET
DTSTART:20241027T010000
END:STANDARD
END:VTIMEZONE
BEGIN:VEVENT
DTSTART;TZID=Europe/Vienna:20240710T193000
DTEND;TZID=Europe/Vienna:20240710T213000
DTSTAMP:20260424T123029
CREATED:20240317T150436Z
LAST-MODIFIED:20240321T173311Z
UID:9041-1720639800-1720647000@www.ff-schwarzach.at
SUMMARY:Platzkonzert der Salzlecker TMK
DESCRIPTION:Am 10.07.2024 findet um 19.30 Uhr das Platzkonzert im Schulhof der Volksschule statt. \n\n\n\nFür das leibliche Wohl ist durch die Feuerwehr Schwarzach gesorgt.
URL:https://www.ff-schwarzach.at/termin/9041/
LOCATION:Volksschule Schwarzach im Pongau\, Schulstraße 13\, Schwarzach im Pongau
END:VEVENT
END:VCALENDAR